View In:
ArcGIS JavaScript
ArcGIS Online Map Viewer
ArcGIS Earth
ArcMap
ArcGIS Pro
View Footprint In:
ArcGIS Online Map Viewer
Service Description: The Queensland Topographic Map Cache service is based on data acquired and
collated by the Department of Natural Resources and Mines, Queensland for more
than thirthy years. This data is used primarily for the creation of the 1:25
000 Topographic Map Series covering various parts of Queensland.
Map Name: QTopo Map Service
Legend
All Layers and Tables
Layers:
Description: The Queensland Topographic Map Cache service is based on data acquired and collated by the Department of Natural Resources and Mines, Queensland for more than thirthy years. This data is used primarily for the creation of the 1:25 000 Topographic Map Series covering various parts of Queensland.
Copyright Text: © State of Queensland (Department of Resources) 2024
Spatial Reference:
102100
(3857)
Single Fused Map Cache: true
Tile Info:
- Height: 256
- Width: 256
- DPI: 96
-
Levels of Detail: 24
-
Level ID: 0
[ Start Tile, End Tile ]
- Resolution: 156543.03392800014
- Scale: 5.91657527591555E8
-
Level ID: 1
[ Start Tile, End Tile ]
- Resolution: 78271.51696399994
- Scale: 2.95828763795777E8
-
Level ID: 2
[ Start Tile, End Tile ]
- Resolution: 39135.75848200009
- Scale: 1.47914381897889E8
-
Level ID: 3
[ Start Tile, End Tile ]
- Resolution: 19567.87924099992
- Scale: 7.3957190948944E7
-
Level ID: 4
[ Start Tile, End Tile ]
- Resolution: 9783.93962049996
- Scale: 3.6978595474472E7
-
Level ID: 5
[ Start Tile, End Tile ]
- Resolution: 4891.96981024998
- Scale: 1.8489297737236E7
- Format: PNG32
- Compression Quality: 0.0
- Origin: X: -2.0037508342787E7
Y: 2.0037508342787E7
- Spatial Reference: 102100
(3857)
Initial Extent:
XMin: 130.16651031927313
YMin: -30.176113261253896
XMax: 164.509772038014
YMax: -9.224246206342881
Spatial Reference: 102100
Full Extent:
XMin: -2.003750785759102E7
YMin: -3.0240971943167172E7
XMax: 2.0037507845334303E7
YMax: 3.0240971470227905E7
Spatial Reference: 102100
Units: esriMeters
Supported Image Format Types: PNG32,PNG24,PNG,JPG,DIB,TIFF,EMF,PS,PDF,GIF,SVG,SVGZ,BMP
Document Info:
Title: QTopo Map Service
Author:
Comments: The Queensland Topographic Map Cache service is based on data acquired and collated by the Department of Natural Resources and Mines, Queensland for more than thirthy years. This data is used primarily for the creation of the 1:25 000 Topographic Map Series covering various parts of Queensland.
Subject: Map service displaying the Queensland Topographic Map Cache.
Category:
Keywords: topographic,place,population centre,builtup area,airport,police station,pipelines,homestead,building,dam,dam wall,powerline,point of interest,local government,locality,marine park,cadastral parcel,cadastre,roads,tracks,trails,railway station,railway line,peak,range,sand,sand ridges,marine hazards,beach,cliff,contour,hillshade,watercourse,waterbody,lake,reservoir,pondage area,canal,reef,shoal,wetland,vegetation,Queensland
AntialiasingMode: None
TextAntialiasingMode: Force
Supports Dynamic Layers: false
MaxRecordCount: 2000
MaxImageHeight: 4320
MaxImageWidth: 7680
Supported Query Formats: JSON, geoJSON, PBF
Min Scale: 3.6978595474472E7
Max Scale: 9027.977411
Supports Datum Transformation: true
Child Resources:
Info
Supported Operations:
Export Map
Return Updates
Generate KML